BEGIN:VCALENDAR
VERSION:2.0
PRODID:-//Am Sternberg - ECPv6.15.20//NONSGML v1.0//EN
CALSCALE:GREGORIAN
METHOD:PUBLISH
X-WR-CALNAME:Am Sternberg
X-ORIGINAL-URL:https://amsternberg.de
X-WR-CALDESC:Veranstaltungen für Am Sternberg
REFRESH-INTERVAL;VALUE=DURATION:PT1H
X-Robots-Tag:noindex
X-PUBLISHED-TTL:PT1H
BEGIN:VTIMEZONE
TZID:Europe/Berlin
BEGIN:DAYLIGHT
TZOFFSETFROM:+0100
TZOFFSETTO:+0200
TZNAME:CEST
DTSTART:20250330T010000
END:DAYLIGHT
BEGIN:STANDARD
TZOFFSETFROM:+0200
TZOFFSETTO:+0100
TZNAME:CET
DTSTART:20251026T010000
END:STANDARD
BEGIN:DAYLIGHT
TZOFFSETFROM:+0100
TZOFFSETTO:+0200
TZNAME:CEST
DTSTART:20260329T010000
END:DAYLIGHT
BEGIN:STANDARD
TZOFFSETFROM:+0200
TZOFFSETTO:+0100
TZNAME:CET
DTSTART:20261025T010000
END:STANDARD
BEGIN:DAYLIGHT
TZOFFSETFROM:+0100
TZOFFSETTO:+0200
TZNAME:CEST
DTSTART:20270328T010000
END:DAYLIGHT
BEGIN:STANDARD
TZOFFSETFROM:+0200
TZOFFSETTO:+0100
TZNAME:CET
DTSTART:20271031T010000
END:STANDARD
END:VTIMEZONE
BEGIN:VEVENT
DTSTART;TZID=Europe/Berlin:20260422T193000
DTEND;TZID=Europe/Berlin:20260422T220000
DTSTAMP:20260422T130732
CREATED:20260403T180057Z
LAST-MODIFIED:20260403T180057Z
UID:353687-1776886200-1776895200@amsternberg.de
SUMMARY:Wavetanzen
DESCRIPTION:Wavetanzen ist mehr als Bewegung – es ist ein Gefühl. Eine Verbindung aus Musik\, Körper\, Rhythmus und innerer Freiheit! \nBeim Wavetanzen steht nicht die perfekte Technik im Vordergrund\, sondern das Spüren\, Loslassen und Mitschwingen mit der Musik. Bewegung wie eine Welle – frei\, fließend und lebendig. Tauche ein in einen Raum voller Energie\, Achtsamkeit und Gemeinschaft. \nWir freuen uns darauf\, dir auf der Tanzfläche zu begegnen. \nEintritt: Auf Spendenbasis \nFlyer\, (PDF)
URL:https://amsternberg.de/veranstaltung/wavetanzen-2024-04-22/
LOCATION:Haus Lautertal\, Mehrgenerationenprojekt am Sternberg\, Stuttgarter Weg 31 (Navi: Ödenwaldstetter Str. 40) \, Gomadingen\, 72532\, Deutschland
CATEGORIES:Kultur,Musik
ATTACH;FMTTYPE=image/webp:https://amsternberg.de/wp-content/uploads/2026/01/2026-02-25_wave-tanzen.webp
ORGANIZER;CN="Am Sternberg LEBEN eG":MAILTO:info@amsternberg.de
END:VEVENT
END:VCALENDAR